BEGIN:VCALENDAR
VERSION:2.0
PRODID:-//Beccy Gillatt School of Jewellery Ltd - ECPv6.15.20//NONSGML v1.0//EN
CALSCALE:GREGORIAN
METHOD:PUBLISH
X-WR-CALNAME:Beccy Gillatt School of Jewellery Ltd
X-ORIGINAL-URL:https://beccygillatt.com
X-WR-CALDESC:Events for Beccy Gillatt School of Jewellery Ltd
REFRESH-INTERVAL;VALUE=DURATION:PT1H
X-Robots-Tag:noindex
X-PUBLISHED-TTL:PT1H
BEGIN:VTIMEZONE
TZID:Europe/London
BEGIN:DAYLIGHT
TZOFFSETFROM:+0000
TZOFFSETTO:+0100
TZNAME:BST
DTSTART:20250330T010000
END:DAYLIGHT
BEGIN:STANDARD
TZOFFSETFROM:+0100
TZOFFSETTO:+0000
TZNAME:GMT
DTSTART:20251026T010000
END:STANDARD
BEGIN:DAYLIGHT
TZOFFSETFROM:+0000
TZOFFSETTO:+0100
TZNAME:BST
DTSTART:20260329T010000
END:DAYLIGHT
BEGIN:STANDARD
TZOFFSETFROM:+0100
TZOFFSETTO:+0000
TZNAME:GMT
DTSTART:20261025T010000
END:STANDARD
BEGIN:DAYLIGHT
TZOFFSETFROM:+0000
TZOFFSETTO:+0100
TZNAME:BST
DTSTART:20270328T010000
END:DAYLIGHT
BEGIN:STANDARD
TZOFFSETFROM:+0100
TZOFFSETTO:+0000
TZNAME:GMT
DTSTART:20271031T010000
END:STANDARD
END:VTIMEZONE
BEGIN:VEVENT
DTSTART;TZID=Europe/London:20260302T100000
DTEND;TZID=Europe/London:20260302T133000
DTSTAMP:20260422T105316
CREATED:20250915T053754Z
LAST-MODIFIED:20251113T145830Z
UID:10000112-1772445600-1772458200@beccygillatt.com
SUMMARY:Sea Glass Setting Workshop (BC02X1GLa)
DESCRIPTION:Sea Glass Setting Workshop (BC02X1GLa) \nOn this 3.5 hour sea glass setting workshop at our teaching studio in Great Linford\, you will learn how to encase sea glass into fine silver frames to create beautiful pendants or earrings. Choose from pieces we cave collected from Charmouth\, Scotland and Cornwall or bring your own. \nExperienced tutor Beccy will gently guide you through a wealth of techniques to enable you to make your very own pieces of jewellery from these lovely treasures of the sea. \nYou will learn how to: \n\nSelect the perfect piece of sea glass\nMeasure your glass\nSelect and form the appropriate fine silver strip size for the glass\nSolder setting and jump rings\nMake fittings using pliers and silver wires for your pendant or earrings\nSolder all components together\nUse acrylic and metal stone setting tools to secure your glass\nSand and polish your piece\n\nWhat do I need to bring?\nIf you wear reading glasses please bring them with you.\nPlease wear closed toe shoes and avoid wearing floaty scarves or skirts.\nIf you would like to bring your own sea glass we can definitely look through your pieces to find any suitable ones. \nMaterials: All materials for 2 pendants are included in the course fee. \nLevel: Some experience of soldering and stone setting is beneficial but not essential \nImportant information: Good hand dexterity and reasonable hand strength is essential as we are using small components to construct your piece and it takes quite a bit of force to set the glass. Good eyesight is also essential as we will be working in very small scale. Reading glasses and magnifiers are available to borrow but please bring reading glasses if you wear them. \nTutor: Beccy Gillatt \nPlease read our cancellation policy before booking a course. \nIf you would like to see what else we offer you can view our other available courses here.
URL:https://beccygillatt.com/event/sea-glass-setting-workshop-bc02x1gla/
LOCATION:Great Linford\, Beccy Gillatt School of Jewellery\, Milton Keynes\, MK14 5DZ
CATEGORIES:2026,Great Linford,sea glass
ATTACH;FMTTYPE=image/jpeg:https://beccygillatt.com/wp-content/uploads/2023/12/img_8454-e1751282851326.jpeg
ORGANIZER;CN="Beccy Gillatt":MAILTO:courses@beccygillatt.com
END:VEVENT
END:VCALENDAR